BEGIN:VCALENDAR
VERSION:2.0
PRODID:icalendar-ruby
CALSCALE:GREGORIAN
METHOD:PUBLISH
BEGIN:VEVENT
DTSTAMP:20260424T201304Z
UID:2751fdfe-485e-4351-9e89-618a4467f3d9
DTSTART;VALUE=DATE:20210416
DTEND;VALUE=DATE:20210416
DESCRIPTION:Burdette Park BMX
LOCATION:5821 Nurrenbern Rd  Evansville IN 47712 USA
SUMMARY:Local Race Single
URL:/site/bmx_races/462273
END:VEVENT
END:VCALENDAR
