BEGIN:VCALENDAR
VERSION:2.0
PRODID:icalendar-ruby
CALSCALE:GREGORIAN
METHOD:PUBLISH
BEGIN:VEVENT
DTSTAMP:20260424T220320Z
UID:cb5abc90-5a3f-4031-acd3-bb49175c2d39
DTSTART;VALUE=DATE:20210430
DTEND;VALUE=DATE:20210430
DESCRIPTION:Desoto BMX
LOCATION:Grimes Park 500 E. Centre Park Blvd Desoto TX 75115 USA
SUMMARY:Local Race Single
URL:/site/bmx_races/461561
END:VEVENT
END:VCALENDAR
