BEGIN:VCALENDAR
VERSION:2.0
PRODID:icalendar-ruby
CALSCALE:GREGORIAN
METHOD:PUBLISH
BEGIN:VEVENT
DTSTAMP:20260424T234055Z
UID:fbe66c58-5fd8-49bc-bba1-f43d39d37ebf
DTSTART;VALUE=DATE:20210207
DTEND;VALUE=DATE:20210207
DESCRIPTION:Greeley Indoor BMX
LOCATION:529 N 15th Ave  Greeley CO 80631 USA
SUMMARY:Local Race Single
URL:/site/bmx_races/461324
END:VEVENT
END:VCALENDAR
