BEGIN:VCALENDAR
VERSION:2.0
PRODID:icalendar-ruby
CALSCALE:GREGORIAN
METHOD:PUBLISH
BEGIN:VEVENT
DTSTAMP:20260424T184711Z
UID:d3231102-e3ef-4216-b4d6-75190c412d50
DTSTART;VALUE=DATE:20210129
DTEND;VALUE=DATE:20210129
DESCRIPTION:Greeley Indoor BMX
LOCATION:529 N 15th Ave  Greeley CO 80631 USA
SUMMARY:Local Race Single
URL:/site/bmx_races/461321
END:VEVENT
END:VCALENDAR
