BEGIN:VCALENDAR
VERSION:2.0
PRODID:icalendar-ruby
CALSCALE:GREGORIAN
METHOD:PUBLISH
BEGIN:VEVENT
DTSTAMP:20260425T021606Z
UID:ae587f49-3195-46e6-952c-56dfcd6098c0
DTSTART;VALUE=DATE:20210206
DTEND;VALUE=DATE:20210206
DESCRIPTION:Emerald Valley BMX
LOCATION:2715 Leo Harris Pkwy  Eugene OR 97402 USA
SUMMARY:Local Race Single
URL:/site/bmx_races/461235
END:VEVENT
END:VCALENDAR
