BEGIN:VCALENDAR
VERSION:2.0
PRODID:icalendar-ruby
CALSCALE:GREGORIAN
METHOD:PUBLISH
BEGIN:VEVENT
DTSTAMP:20260424T104349Z
UID:1e3bd5d6-b9b2-457c-8b53-3562262753bc
DTSTART;VALUE=DATE:20210204
DTEND;VALUE=DATE:20210204
DESCRIPTION:Emerald Valley BMX
LOCATION:2715 Leo Harris Pkwy  Eugene OR 97402 USA
SUMMARY:Local Race Single
URL:/site/bmx_races/461234
END:VEVENT
END:VCALENDAR
