BEGIN:VCALENDAR
VERSION:2.0
PRODID:icalendar-ruby
CALSCALE:GREGORIAN
METHOD:PUBLISH
BEGIN:VEVENT
DTSTAMP:20260425T002611Z
UID:f9bf435d-f3a6-4510-bfe6-d60cc1a20019
DTSTART;VALUE=DATE:20210611
DTEND;VALUE=DATE:20210611
DESCRIPTION:San Diego BMX
LOCATION:3170 Armstrong Street Behind Kearny Mesa Recreation Center San Die
 go CA 92111 USA
SUMMARY:Local Race Single
URL:/site/bmx_races/461010
END:VEVENT
END:VCALENDAR
