BEGIN:VCALENDAR
VERSION:2.0
PRODID:icalendar-ruby
CALSCALE:GREGORIAN
METHOD:PUBLISH
BEGIN:VEVENT
DTSTAMP:20260425T033045Z
UID:901efc8c-df96-406f-b952-a30f531c6b0e
DTSTART;VALUE=DATE:20210709
DTEND;VALUE=DATE:20210709
DESCRIPTION:Shelby Farms BMX
LOCATION:6435 Walnut Grove Rd  Memphis TN 38119 USA
SUMMARY:Race for Life Single
URL:/site/bmx_races/460841
END:VEVENT
END:VCALENDAR
