BEGIN:VCALENDAR
VERSION:2.0
PRODID:icalendar-ruby
CALSCALE:GREGORIAN
METHOD:PUBLISH
BEGIN:VEVENT
DTSTAMP:20260424T120156Z
UID:ee611105-54f6-4485-9438-69a2929a3eea
DTSTART;VALUE=DATE:20210103
DTEND;VALUE=DATE:20210103
DESCRIPTION:Grand Prix BMX at SoCal Fair
LOCATION:18700 Lake Perris Dr  Perris CA 92571 USA
SUMMARY:Local Race Single
URL:/site/bmx_races/460486
END:VEVENT
END:VCALENDAR
