BEGIN:VCALENDAR
VERSION:2.0
PRODID:icalendar-ruby
CALSCALE:GREGORIAN
METHOD:PUBLISH
BEGIN:VEVENT
DTSTAMP:20260425T035309Z
UID:90e9bfe1-8ca8-4f6f-982a-a3dbe7a0a211
DTSTART;VALUE=DATE:20210105
DTEND;VALUE=DATE:20210105
DESCRIPTION:Sarasota BMX
LOCATION:1590 North Tuttle Avenue  Sarasota FL 34237 USA
SUMMARY:Local Race Single
URL:/site/bmx_races/460483
END:VEVENT
END:VCALENDAR
