BEGIN:VCALENDAR
VERSION:2.0
PRODID:icalendar-ruby
CALSCALE:GREGORIAN
METHOD:PUBLISH
BEGIN:VEVENT
DTSTAMP:20260425T155424Z
UID:13458c65-2d37-43c1-bfe7-34a4fdae919f
DTSTART;VALUE=DATE:20210104
DTEND;VALUE=DATE:20210104
DESCRIPTION:Cactus Park BMX
LOCATION:10610 Ashwood St  Lakeside CA 92040 USA
SUMMARY:Local Race Single
URL:/site/bmx_races/460465
END:VEVENT
END:VCALENDAR
