BEGIN:VCALENDAR
VERSION:2.0
PRODID:icalendar-ruby
CALSCALE:GREGORIAN
METHOD:PUBLISH
BEGIN:VEVENT
DTSTAMP:20260424T201311Z
UID:57169dfe-2ad3-487b-8a96-d6aa9f62aee2
DTSTART;VALUE=DATE:20210813
DTEND;VALUE=DATE:20210813
DESCRIPTION:Sandy Ridge BMX
LOCATION:1200 Keys Ferry Rd  McDonough GA 30253 USA
SUMMARY:Local Race Single
URL:/site/bmx_races/459888
END:VEVENT
END:VCALENDAR
