BEGIN:VCALENDAR
VERSION:2.0
PRODID:icalendar-ruby
CALSCALE:GREGORIAN
METHOD:PUBLISH
BEGIN:VEVENT
DTSTAMP:20260425T035216Z
UID:cb060cab-3fb8-4ca6-a038-ed4230aae1ef
DTSTART;VALUE=DATE:20210527
DTEND;VALUE=DATE:20210527
DESCRIPTION:Cedar BMX
LOCATION:Red Barn Village Rd  Clarks Summit PA 18644 USA
SUMMARY:Local Race Single
URL:/site/bmx_races/459795
END:VEVENT
END:VCALENDAR
