BEGIN:VCALENDAR
VERSION:2.0
PRODID:icalendar-ruby
CALSCALE:GREGORIAN
METHOD:PUBLISH
BEGIN:VEVENT
DTSTAMP:20260425T190843Z
UID:a2ed1c25-4773-4658-b7c8-3cccf9b27505
DTSTART;VALUE=DATE:20210515
DTEND;VALUE=DATE:20210515
DESCRIPTION:Cedar BMX
LOCATION:Red Barn Village Rd  Clarks Summit PA 18644 USA
SUMMARY:Local Race Single
URL:/site/bmx_races/459772
END:VEVENT
END:VCALENDAR
