BEGIN:VCALENDAR
VERSION:2.0
PRODID:icalendar-ruby
CALSCALE:GREGORIAN
METHOD:PUBLISH
BEGIN:VEVENT
DTSTAMP:20260424T234900Z
UID:f16edd73-81b8-4376-b354-a3b64bcf1f9d
DTSTART;VALUE=DATE:20210626
DTEND;VALUE=DATE:20210626
DESCRIPTION:TRI CITY BMX
LOCATION:3710 30th Ave  Kearney NE 68845 USA
SUMMARY:Local Race Single
URL:/site/bmx_races/459296
END:VEVENT
END:VCALENDAR
