BEGIN:VCALENDAR
VERSION:2.0
PRODID:icalendar-ruby
CALSCALE:GREGORIAN
METHOD:PUBLISH
BEGIN:VEVENT
DTSTAMP:20260425T225748Z
UID:b44ac665-1ea5-4df9-996b-90c4cf37e49a
DTSTART;VALUE=DATE:20210304
DTEND;VALUE=DATE:20210304
DESCRIPTION:Lake Havasu City BMX
LOCATION:7260 Mc Culloch Blvd S. #B  Lake Havasu City AZ 86406 USA
SUMMARY:Local Race Single
URL:/site/bmx_races/459197
END:VEVENT
END:VCALENDAR
