BEGIN:VCALENDAR
VERSION:2.0
PRODID:icalendar-ruby
CALSCALE:GREGORIAN
METHOD:PUBLISH
BEGIN:VEVENT
DTSTAMP:20260425T225755Z
UID:37340c9b-eaa0-4a1d-bef7-44a47ea030f5
DTSTART;VALUE=DATE:20210218
DTEND;VALUE=DATE:20210218
DESCRIPTION:Lake Havasu City BMX
LOCATION:7260 Mc Culloch Blvd S. #B  Lake Havasu City AZ 86406 USA
SUMMARY:Local Race Single
URL:/site/bmx_races/459191
END:VEVENT
END:VCALENDAR
