BEGIN:VCALENDAR
VERSION:2.0
PRODID:icalendar-ruby
CALSCALE:GREGORIAN
METHOD:PUBLISH
BEGIN:VEVENT
DTSTAMP:20260424T220324Z
UID:19376a8b-0797-4942-aaa9-508c36277494
DTSTART;VALUE=DATE:20211129
DTEND;VALUE=DATE:20211129
DESCRIPTION:Lemoore BMX Raceway
LOCATION: 1750 Ca 41  Lemoore CA 93245 USA
SUMMARY:Local Race Single
URL:/site/bmx_races/458921
END:VEVENT
END:VCALENDAR
