BEGIN:VCALENDAR
VERSION:2.0
PRODID:icalendar-ruby
CALSCALE:GREGORIAN
METHOD:PUBLISH
BEGIN:VEVENT
DTSTAMP:20260424T233948Z
UID:7a297aca-4f49-4a6b-9bcc-75b5b22be498
DTSTART;VALUE=DATE:20210502
DTEND;VALUE=DATE:20210502
DESCRIPTION:Spokes BMX
LOCATION: 2550 W Bennett  Springfield MO 65807 USA
SUMMARY:State Race Double
URL:/site/bmx_races/458873
END:VEVENT
END:VCALENDAR
