BEGIN:VCALENDAR
VERSION:2.0
PRODID:icalendar-ruby
CALSCALE:GREGORIAN
METHOD:PUBLISH
BEGIN:VEVENT
DTSTAMP:20260424T190105Z
UID:f91a48ee-e12c-45d4-ae49-4386ffe70a40
DTSTART;VALUE=DATE:20210927
DTEND;VALUE=DATE:20210927
DESCRIPTION:Antelope Valley BMX
LOCATION:2551 W Avenue H  Lancaster CA 93536 USA
SUMMARY:Local Race Single
URL:/site/bmx_races/458750
END:VEVENT
END:VCALENDAR
