BEGIN:VCALENDAR
VERSION:2.0
PRODID:icalendar-ruby
CALSCALE:GREGORIAN
METHOD:PUBLISH
BEGIN:VEVENT
DTSTAMP:20260424T084405Z
UID:2a3df001-2fe7-4841-a345-769e4fe5d01f
DTSTART;VALUE=DATE:20211009
DTEND;VALUE=DATE:20211009
DESCRIPTION:Shelby Farms BMX
LOCATION:6435 Walnut Grove Rd  Memphis TN 38119 USA
SUMMARY:Local Race Single
URL:/site/bmx_races/458634
END:VEVENT
END:VCALENDAR
