BEGIN:VCALENDAR
VERSION:2.0
PRODID:icalendar-ruby
CALSCALE:GREGORIAN
METHOD:PUBLISH
BEGIN:VEVENT
DTSTAMP:20260424T104402Z
UID:dc53bd15-34f6-446c-9f28-b309a429befb
DTSTART;VALUE=DATE:20210130
DTEND;VALUE=DATE:20210130
DESCRIPTION:Desoto BMX
LOCATION:Grimes Park 500 E. Centre Park Blvd Desoto TX 75115 USA
SUMMARY:Local Race Single
URL:/site/bmx_races/458493
END:VEVENT
END:VCALENDAR
