BEGIN:VCALENDAR
VERSION:2.0
PRODID:icalendar-ruby
CALSCALE:GREGORIAN
METHOD:PUBLISH
BEGIN:VEVENT
DTSTAMP:20260424T131253Z
UID:99791c02-b847-4e76-9291-52092a97d66e
DTSTART;VALUE=DATE:20210219
DTEND;VALUE=DATE:20210219
DESCRIPTION:Colorado River BMX
LOCATION:2230 Highland Dr  Bullhead City AZ 86442 USA
SUMMARY:Local Race Single
URL:/site/bmx_races/458476
END:VEVENT
END:VCALENDAR
