BEGIN:VCALENDAR
VERSION:2.0
PRODID:icalendar-ruby
CALSCALE:GREGORIAN
METHOD:PUBLISH
BEGIN:VEVENT
DTSTAMP:20260424T201433Z
UID:6a0cc66b-116c-4bf2-be8b-af0cd5f6c3a6
DTSTART;VALUE=DATE:20210730
DTEND;VALUE=DATE:20210730
DESCRIPTION:Bonzai BMX
LOCATION:7201 Arlene Laman Dr  N. Little Rock AR 72118 USA
SUMMARY:Local Race Single
URL:/site/bmx_races/458286
END:VEVENT
END:VCALENDAR
