BEGIN:VCALENDAR
VERSION:2.0
PRODID:icalendar-ruby
CALSCALE:GREGORIAN
METHOD:PUBLISH
BEGIN:VEVENT
DTSTAMP:20260425T204031Z
UID:626ddd0a-7418-4a25-b8b1-283b96887f43
DTSTART;VALUE=DATE:20210221
DTEND;VALUE=DATE:20210221
DESCRIPTION:Goodyear BMX Raceway
LOCATION:15660 W Roeser Rd  Goodyear AZ 85338 USA
SUMMARY:Local Race Single
URL:/site/bmx_races/458117
END:VEVENT
END:VCALENDAR
