BEGIN:VCALENDAR
VERSION:2.0
PRODID:icalendar-ruby
CALSCALE:GREGORIAN
METHOD:PUBLISH
BEGIN:VEVENT
DTSTAMP:20260424T202417Z
UID:9f71b31c-5c8a-469f-88e5-94637ccdef38
DTSTART;VALUE=DATE:20211116
DTEND;VALUE=DATE:20211116
DESCRIPTION:Santa Clara PAL BMX
LOCATION:5401 Lafayette Street  Santa Clara CA 95051 USA
SUMMARY:Local Race Single
URL:/site/bmx_races/457825
END:VEVENT
END:VCALENDAR
