BEGIN:VCALENDAR
VERSION:2.0
PRODID:icalendar-ruby
CALSCALE:GREGORIAN
METHOD:PUBLISH
BEGIN:VEVENT
DTSTAMP:20260424T121238Z
UID:74b3a5f4-a2f4-4a99-9215-153224c3d417
DTSTART;VALUE=DATE:20210824
DTEND;VALUE=DATE:20210824
DESCRIPTION:Santa Clara PAL BMX
LOCATION:5401 Lafayette Street  Santa Clara CA 95051 USA
SUMMARY:Local Race Single
URL:/site/bmx_races/457642
END:VEVENT
END:VCALENDAR
