BEGIN:VCALENDAR
VERSION:2.0
PRODID:icalendar-ruby
CALSCALE:GREGORIAN
METHOD:PUBLISH
BEGIN:VEVENT
DTSTAMP:20260424T125321Z
UID:bccc79fe-800f-4f43-b7ec-6d04fca837d8
DTSTART;VALUE=DATE:20210102
DTEND;VALUE=DATE:20210102
DESCRIPTION:Emerald Valley BMX
LOCATION:2715 Leo Harris Pkwy  Eugene OR 97402 USA
SUMMARY:Local Race Single
URL:/site/bmx_races/457517
END:VEVENT
END:VCALENDAR
