BEGIN:VCALENDAR
VERSION:2.0
PRODID:icalendar-ruby
CALSCALE:GREGORIAN
METHOD:PUBLISH
BEGIN:VEVENT
DTSTAMP:20260425T155426Z
UID:83d2a638-4036-45d1-85ef-915d56408c2b
DTSTART;VALUE=DATE:20211107
DTEND;VALUE=DATE:20211107
DESCRIPTION:Cowtown BMX
LOCATION:447 Haltom Rd  Ft. Worth TX 76117 USA
SUMMARY:Local Race Single
URL:/site/bmx_races/456437
END:VEVENT
END:VCALENDAR
