BEGIN:VCALENDAR
VERSION:2.0
PRODID:icalendar-ruby
CALSCALE:GREGORIAN
METHOD:PUBLISH
BEGIN:VEVENT
DTSTAMP:20260424T194706Z
UID:4f0ebfaf-54a6-4eb0-b37a-6b3e0374ce17
DTSTART;VALUE=DATE:20211021
DTEND;VALUE=DATE:20211021
DESCRIPTION:Twin Silo BMX
LOCATION:5400 Ziegler Rd.   Ft Collins CO 80528 USA
SUMMARY:Local Race Single
URL:/site/bmx_races/456250
END:VEVENT
END:VCALENDAR
