BEGIN:VCALENDAR
VERSION:2.0
PRODID:icalendar-ruby
CALSCALE:GREGORIAN
METHOD:PUBLISH
BEGIN:VEVENT
DTSTAMP:20260424T074638Z
UID:95d7261d-85be-4a60-ac9d-7007ca450189
DTSTART;VALUE=DATE:20210601
DTEND;VALUE=DATE:20210601
DESCRIPTION:Gretna BMX Raceway
LOCATION:800 Gretna Blvd  Gretna LA 70053 USA
SUMMARY:Local Race Single
URL:/site/bmx_races/455203
END:VEVENT
END:VCALENDAR
