BEGIN:VCALENDAR
VERSION:2.0
PRODID:icalendar-ruby
CALSCALE:GREGORIAN
METHOD:PUBLISH
BEGIN:VEVENT
DTSTAMP:20260425T230425Z
UID:51a29e14-2999-4762-bbd2-b8ce13f9d38c
DTSTART;VALUE=DATE:20210714
DTEND;VALUE=DATE:20210714
DESCRIPTION:Fort Wayne BMX
LOCATION:3411 Sherman Blvd  Fort Wayne IN 46808 USA
SUMMARY:Local Race Single
URL:/site/bmx_races/455025
END:VEVENT
END:VCALENDAR
