BEGIN:VCALENDAR
VERSION:2.0
PRODID:icalendar-ruby
CALSCALE:GREGORIAN
METHOD:PUBLISH
BEGIN:VEVENT
DTSTAMP:20260425T010621Z
UID:6c9cf331-1d3c-4afd-8548-214a277db38a
DTSTART;VALUE=DATE:20210627
DTEND;VALUE=DATE:20210627
DESCRIPTION:Richmond BMX
LOCATION:4401 Hobbs Lane   Next To Church Richmond VA 23231 USA
SUMMARY:Warnicke Double
URL:/site/bmx_races/454889
END:VEVENT
END:VCALENDAR
