BEGIN:VCALENDAR
VERSION:2.0
PRODID:icalendar-ruby
CALSCALE:GREGORIAN
METHOD:PUBLISH
BEGIN:VEVENT
DTSTAMP:20260424T095004Z
UID:330d062b-de59-45ec-9e94-aa96fbeedc5b
DTSTART;VALUE=DATE:20210613
DTEND;VALUE=DATE:20210613
DESCRIPTION:Music City BMX Association
LOCATION:2901 Bell Road  Nashville TN 37217 USA
SUMMARY:Local Race Single
URL:/site/bmx_races/454640
END:VEVENT
END:VCALENDAR
