BEGIN:VCALENDAR
VERSION:2.0
PRODID:icalendar-ruby
CALSCALE:GREGORIAN
METHOD:PUBLISH
BEGIN:VEVENT
DTSTAMP:20260424T121218Z
UID:385e0fec-3611-4653-b54c-49f3db9f8ef5
DTSTART;VALUE=DATE:20201209
DTEND;VALUE=DATE:20201209
DESCRIPTION:Charlotte BMX
LOCATION:2505 Carmalita St  Punta Gorda FL 33950 USA
SUMMARY:Standard Single Single
URL:/site/bmx_races/453971
END:VEVENT
END:VCALENDAR
