BEGIN:VCALENDAR
VERSION:2.0
PRODID:icalendar-ruby
CALSCALE:GREGORIAN
METHOD:PUBLISH
BEGIN:VEVENT
DTSTAMP:20260424T101315Z
UID:00a0ea7c-d304-4dbc-9a1f-cc2bd5f96700
DTSTART;VALUE=DATE:20210711
DTEND;VALUE=DATE:20210711
DESCRIPTION:Richfield Park BMX
LOCATION:6550 N Irish Road  Davison MI 48423 USA
SUMMARY:Race for Life Single
URL:/site/bmx_races/453966
END:VEVENT
END:VCALENDAR
