BEGIN:VCALENDAR
VERSION:2.0
PRODID:icalendar-ruby
CALSCALE:GREGORIAN
METHOD:PUBLISH
BEGIN:VEVENT
DTSTAMP:20260424T131307Z
UID:a0482371-28b5-4d71-a0b9-b266c210e5e9
DTSTART;VALUE=DATE:20210305
DTEND;VALUE=DATE:20210305
DESCRIPTION:Elkhorn BMX
LOCATION:848 Elkhorn Blvd  Rio Linda CA 95673 USA
SUMMARY:Local Race Single
URL:/site/bmx_races/453924
END:VEVENT
END:VCALENDAR
