BEGIN:VCALENDAR
VERSION:2.0
PRODID:icalendar-ruby
CALSCALE:GREGORIAN
METHOD:PUBLISH
BEGIN:VEVENT
DTSTAMP:20260425T115125Z
UID:b2f6950b-47dd-4ad8-835b-df36fe245cfb
DTSTART;VALUE=DATE:20211115
DTEND;VALUE=DATE:20211115
DESCRIPTION:Bellflower BMX
LOCATION:9030 Somerset Blvd  Bellflower CA 90706 USA
SUMMARY:Local Race Single
URL:/site/bmx_races/453718
END:VEVENT
END:VCALENDAR
