BEGIN:VCALENDAR
VERSION:2.0
PRODID:icalendar-ruby
CALSCALE:GREGORIAN
METHOD:PUBLISH
BEGIN:VEVENT
DTSTAMP:20260425T115126Z
UID:016ae912-a1a6-400c-9863-ff22c051f0d5
DTSTART;VALUE=DATE:20210913
DTEND;VALUE=DATE:20210913
DESCRIPTION:Bellflower BMX
LOCATION:9030 Somerset Blvd  Bellflower CA 90706 USA
SUMMARY:Local Race Single
URL:/site/bmx_races/453709
END:VEVENT
END:VCALENDAR
