BEGIN:VCALENDAR
VERSION:2.0
PRODID:icalendar-ruby
CALSCALE:GREGORIAN
METHOD:PUBLISH
BEGIN:VEVENT
DTSTAMP:20260425T010828Z
UID:d7f97216-212a-4d3a-8817-5a5555267cc7
DTSTART;VALUE=DATE:20210114
DTEND;VALUE=DATE:20210114
DESCRIPTION:Cape Coral BMX
LOCATION:1410 Sw 6th Place  Cape Coral FL 33991 USA
SUMMARY:Local Race Single
URL:/site/bmx_races/453509
END:VEVENT
END:VCALENDAR
