BEGIN:VCALENDAR
VERSION:2.0
PRODID:icalendar-ruby
CALSCALE:GREGORIAN
METHOD:PUBLISH
BEGIN:VEVENT
DTSTAMP:20260425T035236Z
UID:5205ea61-86b0-4aea-bd96-055b78118168
DTSTART;VALUE=DATE:20211205
DTEND;VALUE=DATE:20211205
DESCRIPTION:Yucaipa BMX
LOCATION:32750 Thunderbird Way  Yucaipa CA 92399 USA
SUMMARY:Local Race Single
URL:/site/bmx_races/453151
END:VEVENT
END:VCALENDAR
