BEGIN:VCALENDAR
VERSION:2.0
PRODID:icalendar-ruby
CALSCALE:GREGORIAN
METHOD:PUBLISH
BEGIN:VEVENT
DTSTAMP:20260424T152501Z
UID:bfa2105a-0f70-4f20-9dbe-1f64e884794a
DTSTART;VALUE=DATE:20210509
DTEND;VALUE=DATE:20210509
DESCRIPTION:Yucaipa BMX
LOCATION:32750 Thunderbird Way  Yucaipa CA 92399 USA
SUMMARY:Local Race Single
URL:/site/bmx_races/453122
END:VEVENT
END:VCALENDAR
