BEGIN:VCALENDAR
VERSION:2.0
PRODID:icalendar-ruby
CALSCALE:GREGORIAN
METHOD:PUBLISH
BEGIN:VEVENT
DTSTAMP:20260424T101316Z
UID:57a80c55-2671-4178-a55d-62d1364c681f
DTSTART;VALUE=DATE:20210629
DTEND;VALUE=DATE:20210629
DESCRIPTION:Trumbull BMX
LOCATION:370 Indian Ledge Park Dr  Trumbull CT 06611 USA
SUMMARY:Local Race Single
URL:/site/bmx_races/452712
END:VEVENT
END:VCALENDAR
