BEGIN:VCALENDAR
VERSION:2.0
PRODID:icalendar-ruby
CALSCALE:GREGORIAN
METHOD:PUBLISH
BEGIN:VEVENT
DTSTAMP:20260425T142111Z
UID:c0280133-b173-48ba-9054-876dab491b55
DTSTART;VALUE=DATE:20210806
DTEND;VALUE=DATE:20210806
DESCRIPTION:Jacksonville BMX
LOCATION:1946 Ray Greene Drive  Jacksonville FL 32218 USA
SUMMARY:Local Race Single
URL:/site/bmx_races/452067
END:VEVENT
END:VCALENDAR
