BEGIN:VCALENDAR
VERSION:2.0
PRODID:icalendar-ruby
CALSCALE:GREGORIAN
METHOD:PUBLISH
BEGIN:VEVENT
DTSTAMP:20260426T034701Z
UID:e06b8bec-7ed5-4087-961b-8b597a4dcd28
DTSTART;VALUE=DATE:20210911
DTEND;VALUE=DATE:20210911
DESCRIPTION:Winnebagoland BMX
LOCATION:4650 Jackson Street  Oshkosh WI 54901 USA
SUMMARY:Local Race Single
URL:/site/bmx_races/451868
END:VEVENT
END:VCALENDAR
