BEGIN:VCALENDAR
VERSION:2.0
PRODID:icalendar-ruby
CALSCALE:GREGORIAN
METHOD:PUBLISH
BEGIN:VEVENT
DTSTAMP:20260424T215418Z
UID:e58da50c-dd14-4003-888c-2b1520db00ca
DTSTART;VALUE=DATE:20210703
DTEND;VALUE=DATE:20210703
DESCRIPTION:Winnebagoland BMX
LOCATION:4650 Jackson Street  Oshkosh WI 54901 USA
SUMMARY:Local Race Single
URL:/site/bmx_races/451858
END:VEVENT
END:VCALENDAR
