BEGIN:VCALENDAR
VERSION:2.0
PRODID:icalendar-ruby
CALSCALE:GREGORIAN
METHOD:PUBLISH
BEGIN:VEVENT
DTSTAMP:20260424T185912Z
UID:c6291f03-1682-449f-a9bf-03f2447c53fc
DTSTART;VALUE=DATE:20210717
DTEND;VALUE=DATE:20210717
DESCRIPTION:MadTown BMX
LOCATION:6996 Hickory Lane  Deforest WI 53532 USA
SUMMARY:State Race Double
URL:/site/bmx_races/451707
END:VEVENT
END:VCALENDAR
