BEGIN:VCALENDAR
VERSION:2.0
PRODID:icalendar-ruby
CALSCALE:GREGORIAN
METHOD:PUBLISH
BEGIN:VEVENT
DTSTAMP:20260425T024819Z
UID:f406016a-da1b-4f7c-8297-0183c9ee6c54
DTSTART;VALUE=DATE:20210606
DTEND;VALUE=DATE:20210606
DESCRIPTION:Chesapeake BMX
LOCATION:726 Donaldson Avenue  Severn MD 21144 USA
SUMMARY:State Race Double
URL:/site/bmx_races/451704
END:VEVENT
END:VCALENDAR
