BEGIN:VCALENDAR
VERSION:2.0
PRODID:icalendar-ruby
CALSCALE:GREGORIAN
METHOD:PUBLISH
BEGIN:VEVENT
DTSTAMP:20260425T171943Z
UID:e00b27bc-ceee-4016-9fea-7390935f59ff
DTSTART;VALUE=DATE:20210523
DTEND;VALUE=DATE:20210523
DESCRIPTION:Rockford BMX
LOCATION:4950 Safford Rd  Rockford IL 61101 USA
SUMMARY:State Race Double
URL:/site/bmx_races/451575
END:VEVENT
END:VCALENDAR
