BEGIN:VCALENDAR
VERSION:2.0
PRODID:icalendar-ruby
CALSCALE:GREGORIAN
METHOD:PUBLISH
BEGIN:VEVENT
DTSTAMP:20260424T104309Z
UID:6ba8e334-7066-4b81-b739-01183393c3a2
DTSTART;VALUE=DATE:20210309
DTEND;VALUE=DATE:20210309
DESCRIPTION:Yukon BMX
LOCATION:Taylor Park Sports Complex   410 N 11th St Yukon OK 73064 USA
SUMMARY:Local Race Single
URL:/site/bmx_races/451490
END:VEVENT
END:VCALENDAR
